BEGIN:VCALENDAR
VERSION:2.0
PRODID:spatie/icalendar-generator
DESCRIPTION:Events from El Dorado Sun City
X-WR-CALDESC:Events from El Dorado Sun City
REFRESH-INTERVAL;VALUE=DURATION:PT1440M
X-PUBLISHED-TTL:PT1440M
BEGIN:VTIMEZONE
TZID:Etc/GMT+0
BEGIN:STANDARD
DTSTART:20231201T120000Z
TZOFFSETFROM:+0000
TZOFFSETTO:+0000
END:STANDARD
END:VTIMEZONE
BEGIN:VTIMEZONE
TZID:UTC
BEGIN:STANDARD
DTSTART:20250723T173707Z
TZOFFSETFROM:+0000
TZOFFSETTO:+0000
END:STANDARD
END:VTIMEZONE
BEGIN:VEVENT
UID:1381-72
DTSTAMP:20260419T173707Z
SUMMARY:El Dorado End of Summer Picnic
LOCATION:
ORGANIZER;CN=EDSCAdmin:MAILTO:lmiyatovich@eldoradosuncity.onmicrosoft.com
DTSTART;TZID=Etc/GMT+0:20240827T120000
DTEND;TZID=Etc/GMT+0:20240827T140000
X-ALT-DESC;FMTTYPE=TEXT/HTML:Tuesday\, August 27th from 12:00 to 2:00pm–
  Get silly and put on your summer fun attire to join us in the auditorium
  to celebrate the end of summer. For our summer themed picnic\, we will be
  serving hot dogs\, chips\, cookies and cooling refreshments- iced tea &amp;am
 p\; lemonade. Be ready to strike a pose\, “Best Dressed”&amp;hellip\;
CATEGORIES:General
URL;VALUE=URI:https://www.eldoradosc.com/mc-events/el-dorado-end-of-summer-
 picnic/
METHOD:PUBLISH
END:VEVENT
END:VCALENDAR