BEGIN:VCALENDAR
VERSION:2.0
PRODID:spatie/icalendar-generator
DESCRIPTION:Events from El Dorado Sun City
X-WR-CALDESC:Events from El Dorado Sun City
REFRESH-INTERVAL;VALUE=DURATION:PT1440M
X-PUBLISHED-TTL:PT1440M
BEGIN:VTIMEZONE
TZID:Etc/GMT+0
BEGIN:STANDARD
DTSTART:20231130T140000Z
TZOFFSETFROM:+0000
TZOFFSETTO:+0000
END:STANDARD
END:VTIMEZONE
BEGIN:VTIMEZONE
TZID:UTC
BEGIN:STANDARD
DTSTART:20250723T173404Z
TZOFFSETFROM:+0000
TZOFFSETTO:+0000
END:STANDARD
END:VTIMEZONE
BEGIN:VEVENT
UID:1378-71
DTSTAMP:20260419T173404Z
SUMMARY:Dr. Jeanne Blanchet Book Signing
LOCATION:
ORGANIZER;CN=EDSCAdmin:MAILTO:lmiyatovich@eldoradosuncity.onmicrosoft.com
DTSTART;TZID=Etc/GMT+0:20240826T140000
DTEND;TZID=Etc/GMT+0:20240826T150000
X-ALT-DESC;FMTTYPE=TEXT/HTML:<p>Resident award-winning author Jeanne Blanch
 et will hold a book signing here at El Dorado on August 26 for her latest 
 book\, Tales From the Far Side\, a delightful collection of imaginative sh
 ort stories\, some featuring humorous\, chatty animals—not to mention mo
 uthy inanimate objects. Many of the stories take place during cataclysmic 
 historical events\, such as the 2012 onslaught of Hurricane Sandy\, and re
 late to timely issues like racism\, alcoholism\, and attitudes toward peop
 le with disabilities. Featuring Navajo code talkers\, Tuskegee Airmen\, hi
 bakusha (disfigured atom bomb victims)\, and AI\, Jeanne’s thought-provo
 king book is sure to captivate anyone who relishes a good\, albeit far out
 \, story. This special edition is illustrated with the author’s own artw
 ork.</p>\n
CATEGORIES:General
URL;VALUE=URI:https://www.eldoradosc.com/mc-events/dr-jeanne-blanchet-book-
 signing/
METHOD:PUBLISH
END:VEVENT
END:VCALENDAR