BEGIN:VCALENDAR
VERSION:2.0
PRODID:spatie/icalendar-generator
DESCRIPTION:Events from El Dorado Sun City
X-WR-CALDESC:Events from El Dorado Sun City
REFRESH-INTERVAL;VALUE=DURATION:PT1440M
X-PUBLISHED-TTL:PT1440M
BEGIN:VTIMEZONE
TZID:Etc/GMT+0
BEGIN:STANDARD
DTSTART:20231127T163000Z
TZOFFSETFROM:+0000
TZOFFSETTO:+0000
END:STANDARD
END:VTIMEZONE
BEGIN:VTIMEZONE
TZID:UTC
BEGIN:STANDARD
DTSTART:20250723T160801Z
TZOFFSETFROM:+0000
TZOFFSETTO:+0000
END:STANDARD
END:VTIMEZONE
BEGIN:VEVENT
UID:1377-70
DTSTAMP:20260419T160801Z
SUMMARY:Piano Concert
LOCATION:
ORGANIZER;CN=EDSCAdmin:MAILTO:lmiyatovich@eldoradosuncity.onmicrosoft.com
DTSTART;TZID=Etc/GMT+0:20240823T163000
DTEND;TZID=Etc/GMT+0:20240823T173000
X-ALT-DESC;FMTTYPE=TEXT/HTML:<p>Our own resident\, Dr. Jeanne Blanchet will
  be playing the piano during our evening dinner service.</p>\n<p>(This eve
 ning entertainment is for El Dorado residents and their invited guests)</p>\n
CATEGORIES:General
URL;VALUE=URI:https://www.eldoradosc.com/mc-events/piano-concert/
METHOD:PUBLISH
END:VEVENT
END:VCALENDAR