BEGIN:VCALENDAR
VERSION:2.0
PRODID:spatie/icalendar-generator
DESCRIPTION:Events from El Dorado Sun City
X-WR-CALDESC:Events from El Dorado Sun City
REFRESH-INTERVAL;VALUE=DURATION:PT1440M
X-PUBLISHED-TTL:PT1440M
BEGIN:VTIMEZONE
TZID:Etc/GMT+0
BEGIN:STANDARD
DTSTART:20231125T140000Z
TZOFFSETFROM:+0000
TZOFFSETTO:+0000
END:STANDARD
END:VTIMEZONE
BEGIN:VTIMEZONE
TZID:UTC
BEGIN:STANDARD
DTSTART:20250723T142313Z
TZOFFSETFROM:+0000
TZOFFSETTO:+0000
END:STANDARD
END:VTIMEZONE
BEGIN:VEVENT
UID:1375-68
DTSTAMP:20260419T142313Z
SUMMARY:Movie Afternoon: \"Cocoon\"
LOCATION:
ORGANIZER;CN=EDSCAdmin:MAILTO:lmiyatovich@eldoradosuncity.onmicrosoft.com
DTSTART;TZID=Etc/GMT+0:20240821T140000
DTEND;TZID=Etc/GMT+0:20240821T150000
X-ALT-DESC;FMTTYPE=TEXT/HTML:<p>Director Ron Howard with the cast of his mo
 vie Cocoon\, about old people rejuvenated by alien pods\,1984. Cocoon was 
 a big hit but is not widely available due to music rights. Wilford Brimley
 \, far left\, was 49 during filming of his senior citizen role.</p>\n<p>(T
 his event is for El Dorado residents and their invited guests)</p>\n
CATEGORIES:General
URL;VALUE=URI:https://www.eldoradosc.com/mc-events/movie-afternoon-cocoon/
METHOD:PUBLISH
END:VEVENT
END:VCALENDAR